BEGIN:VCALENDAR
VERSION:2.0
PRODID:-//Loyal - Events - ECPv6.2.0.1//NONSGML v1.0//EN
CALSCALE:GREGORIAN
X-WR-CALNAME:Loyal - Events
X-ORIGINAL-URL:https://loyalheightses.seattleschools.org/events/class-phot
 os/ics/
X-WR-CALDESC:Loyal - Events
REFRESH-INTERVAL;VALUE=DURATION:PT1D
X-Robots-Tag:noindex
X-PUBLISHED-TTL:PT1D
BEGIN:VTIMEZONE
TZID:America/Vancouver
BEGIN:DAYLIGHT
TZOFFSETFROM:-0800
TZOFFSETTO:-0700
TZNAME:PDT
DTSTART:20260308T100000
END:DAYLIGHT
BEGIN:STANDARD
TZOFFSETFROM:-0700
TZOFFSETTO:-0800
TZNAME:PST
DTSTART:20261101T090000
END:STANDARD
END:VTIMEZONE
BEGIN:VEVENT
DTSTART;VALUE=DATE:20260326
DTEND;VALUE=DATE:20260327
DTSTAMP:20260417T110051Z
CREATED:20260128T143309Z
LAST-MODIFIED:20260128T143312Z
UID:https://loyalheightses.seattleschools.org/events/class-photos/
SUMMARY:Class Photo
DESCRIPTION:Class Photos
URL:https://loyalheightses.seattleschools.org/events/class-photos/
END:VEVENT
END:VCALENDAR